BEGIN:VCALENDAR
VERSION:2.0
CALSCALE:GREGORIAN
PRODID:-//Diputació de Barcelona//DibaCMS//EN
BEGIN:VEVENT
UID:15605
DTSTAMP:20260424T150620
DTSTART:20221213T183000
DTEND:20221213T183000
SUMMARY:Sessió informativa. Els ajuts europeus per a la rehabilitació d'edificis i habitatges.
LOCATION:Av. de Pau Casals, 16 08755 Castellbisbal
METHOD:PUBLISH
X-WR-CALNAME:comunicacio@castellbisbal.cat
X-WR-TIMEZONE:Europe/Madrid
DESCRIPTION:A les 18.30 hores, a l'Espai Montserrat Roig d'Els Costals

URI:https://www.castellbisbal.cat/actualitat/agenda/sessio-informativa-els-ajuts-europeus-per-a-la-rehabilitacio-dedificis-i-habitatges.html
CLASS:PUBLIC
END:VEVENT
END:VCALENDAR
