BEGIN:VCALENDAR
VERSION:2.0
CALSCALE:GREGORIAN
PRODID:-//Diputació de Barcelona//DibaCMS//EN
BEGIN:VEVENT
UID:15608
DTSTAMP:20260424T120728
DTSTART:20221218T100000
DTEND:20221218T100000
SUMMARY:Tandes solidàries per la Marató de TV3
LOCATION:Circuit del Serral de la Verdolaga 08755 Castellbisbal
METHOD:PUBLISH
X-WR-CALNAME:comunicacio@castellbisbal.cat
X-WR-TIMEZONE:Europe/Madrid
DESCRIPTION:De 10.00 a 14.00 h, al Serral de la Verdolaga

URI:https://www.castellbisbal.cat/actualitat/agenda/15608-tandes-solidaries-per-la-marato-de-tv3.html
CLASS:PUBLIC
END:VEVENT
END:VCALENDAR
