BEGIN:VCALENDAR
VERSION:2.0
CALSCALE:GREGORIAN
PRODID:-//Diputació de Barcelona//DibaCMS//EN
BEGIN:VEVENT
UID:15609
DTSTAMP:20260424T224729
DTSTART:20221219T093000
DTEND:20221219T093000
SUMMARY:Paradeta solidària Nadal 2022
LOCATION:
METHOD:PUBLISH
X-WR-CALNAME:comunicacio@castellbisbal.cat
X-WR-TIMEZONE:Europe/Madrid
DESCRIPTION:De 9.30 a 13.30 h, al Mercat Municipal

URI:https://www.castellbisbal.cat/actualitat/agenda/paradeta-solidaria-nadal-2022.html
CLASS:PUBLIC
END:VEVENT
END:VCALENDAR
