BEGIN:VCALENDAR
VERSION:2.0
CALSCALE:GREGORIAN
PRODID:-//Diputació de Barcelona//DibaCMS//EN
BEGIN:VEVENT
UID:15610
DTSTAMP:20260424T053514
DTSTART:20221219T110000
DTEND:20221219T110000
SUMMARY:Cantada del grup coral d'havaneres de la Gent Gran
LOCATION:Carrer de la Font del Cabrer, 16 baixos 08755 Castellbisbal
METHOD:PUBLISH
X-WR-CALNAME:comunicacio@castellbisbal.cat
X-WR-TIMEZONE:Europe/Madrid
DESCRIPTION:A les 11.00 h, al Centre de dia El Serral

URI:https://www.castellbisbal.cat/actualitat/agenda/cantada-del-grup-coral-dhavaneres-de-la-gent-gran.html
CLASS:PUBLIC
END:VEVENT
END:VCALENDAR
