BEGIN:VCALENDAR
VERSION:2.0
CALSCALE:GREGORIAN
PRODID:-//Diputació de Barcelona//DibaCMS//EN
BEGIN:VEVENT
UID:15612
DTSTAMP:20260425T052911
DTSTART:20221220T120000
DTEND:20221220T120000
SUMMARY:Concert de Nadal del grup de Musicoteràpia
LOCATION:Carrer de la Font del Cabrer, 16 baixos 08755 Castellbisbal
METHOD:PUBLISH
X-WR-CALNAME:comunicacio@castellbisbal.cat
X-WR-TIMEZONE:Europe/Madrid
DESCRIPTION:A les 12.00 h, al Centre de Dia El Serral

URI:https://www.castellbisbal.cat/actualitat/agenda/concert-de-nadal-del-grup-de-musicoterapia.html
CLASS:PUBLIC
END:VEVENT
END:VCALENDAR
