BEGIN:VCALENDAR
VERSION:2.0
CALSCALE:GREGORIAN
PRODID:-//Diputació de Barcelona//DibaCMS//EN
BEGIN:VEVENT
UID:15613
DTSTAMP:20260423T184738
DTSTART:20221221T180000
DTEND:20221221T180000
SUMMARY:Canta amb alegria! Concert de Nadal de les corals de l'EMMB
LOCATION:Av. de Pau Casals, 16 08755 Castellbisbal
METHOD:PUBLISH
X-WR-CALNAME:comunicacio@castellbisbal.cat
X-WR-TIMEZONE:Europe/Madrid
DESCRIPTION:A les 18.00 h, a l'Auditori d'Els Costals

URI:https://www.castellbisbal.cat/actualitat/agenda/canta-amb-alegria-concert-de-nadal-de-les-corals-de-lemmb.html
CLASS:PUBLIC
END:VEVENT
END:VCALENDAR
