BEGIN:VCALENDAR
VERSION:2.0
CALSCALE:GREGORIAN
PRODID:-//Diputació de Barcelona//DibaCMS//EN
BEGIN:VEVENT
UID:15618
DTSTAMP:20260424T134620
DTSTART:20221231T010000
DTEND:20221231T010000
SUMMARY:Festa de Cap d'Any amb Delay DJ+
LOCATION:Parc de l'Ermita 08755 Castellbisbal
METHOD:PUBLISH
X-WR-CALNAME:comunicacio@castellbisbal.cat
X-WR-TIMEZONE:Europe/Madrid
DESCRIPTION:A les 01.00 h, al parc de l'Ermita

URI:https://www.castellbisbal.cat/actualitat/agenda/festa-de-cap-dany-amb-delay-dj.html
CLASS:PUBLIC
END:VEVENT
END:VCALENDAR
