BEGIN:VCALENDAR
VERSION:2.0
CALSCALE:GREGORIAN
PRODID:-//Diputació de Barcelona//DibaCMS//EN
BEGIN:VEVENT
UID:15622
DTSTAMP:20260424T224024
DTSTART:20221227T090000
DTEND:20221230T140000
SUMMARY:Curs de creació d'aplicacions al mòbil
LOCATION:Av. de Pau Casals, 16 08755 Castellbisbal
METHOD:PUBLISH
X-WR-CALNAME:comunicacio@castellbisbal.cat
X-WR-TIMEZONE:Europe/Madrid
DESCRIPTION:Del 27 al 30 de desembre, de 9.00 a 14.00 hores, a l'aula multimèdia d'Els Costals

URI:https://www.castellbisbal.cat/actualitat/agenda/curs-de-creacio-daplicacions-al-mobil.html
CLASS:PUBLIC
END:VEVENT
END:VCALENDAR
