BEGIN:VCALENDAR
VERSION:2.0
CALSCALE:GREGORIAN
PRODID:-//Diputació de Barcelona//DibaCMS//EN
BEGIN:VEVENT
UID:15624
DTSTAMP:20260425T012646
DTSTART:20221209T180000
DTEND:20221209T180000
SUMMARY:Jocs de rol
LOCATION:Carrer Francesc Macià, 64 08755 Castellbisbal
METHOD:PUBLISH
X-WR-CALNAME:comunicacio@castellbisbal.cat
X-WR-TIMEZONE:Europe/Madrid
DESCRIPTION:De 18.00 a 19.00 h, al Punt d'Iinformació Juvenil

URI:https://www.castellbisbal.cat/actualitat/agenda/jocs-de-rol.html
CLASS:PUBLIC
END:VEVENT
END:VCALENDAR
