BEGIN:VCALENDAR
VERSION:2.0
CALSCALE:GREGORIAN
PRODID:-//Diputació de Barcelona//DibaCMS//EN
BEGIN:VEVENT
UID:15628
DTSTAMP:20260424T053610
DTSTART:20221229T170000
DTEND:20221229T170000
SUMMARY:Tarda de jocs de taula
LOCATION:Carrer Francesc Macià, 64 08755 Castellbisbal
METHOD:PUBLISH
X-WR-CALNAME:comunicacio@castellbisbal.cat
X-WR-TIMEZONE:Europe/Madrid
DESCRIPTION:De 17.00 a 19.30 h, al Punt d'Informació Juvenil

URI:https://www.castellbisbal.cat/actualitat/agenda/15628-tarda-de-jocs-de-taula.html
CLASS:PUBLIC
END:VEVENT
END:VCALENDAR
