BEGIN:VCALENDAR
VERSION:2.0
CALSCALE:GREGORIAN
PRODID:-//Diputació de Barcelona//DibaCMS//EN
BEGIN:VEVENT
UID:15635
DTSTAMP:20260424T113537
DTSTART:20221212T103000
DTEND:20221212T103000
SUMMARY:Castellbisbal amb la Marató
LOCATION:
METHOD:PUBLISH
X-WR-CALNAME:comunicacio@castellbisbal.cat
X-WR-TIMEZONE:Europe/Madrid
DESCRIPTION:De 10.30 a 12.30 h, al Mercat Municipal

URI:https://www.castellbisbal.cat/actualitat/agenda/castellbisbal-amb-la-marato.html
CLASS:PUBLIC
END:VEVENT
END:VCALENDAR
