BEGIN:VCALENDAR
VERSION:2.0
CALSCALE:GREGORIAN
PRODID:-//Diputació de Barcelona//DibaCMS//EN
BEGIN:VEVENT
UID:15637
DTSTAMP:20260424T172533
DTSTART:20221222T170000
DTEND:20221222T170000
SUMMARY:L'Hora del cafè. Jocs i joguines
LOCATION:C. Bellavista 47-49 08755 Castellbisbal
METHOD:PUBLISH
X-WR-CALNAME:comunicacio@castellbisbal.cat
X-WR-TIMEZONE:Europe/Madrid
DESCRIPTION:De 17.00 a 18.00 h, a l'EMB La Caseta

URI:https://www.castellbisbal.cat/actualitat/agenda/lhora-del-cafe-jocs-i-joguines.html
CLASS:PUBLIC
END:VEVENT
END:VCALENDAR
