BEGIN:VCALENDAR
VERSION:2.0
CALSCALE:GREGORIAN
PRODID:-//Diputació de Barcelona//DibaCMS//EN
BEGIN:VEVENT
UID:15638
DTSTAMP:20260424T004619
DTSTART:20221219T080000
DTEND:20221219T080000
SUMMARY:Paradeta Solidària
LOCATION:
METHOD:PUBLISH
X-WR-CALNAME:comunicacio@castellbisbal.cat
X-WR-TIMEZONE:Europe/Madrid
DESCRIPTION:A partir de les 8.00 h, al Mercat Setmanal

URI:https://www.castellbisbal.cat/actualitat/agenda/15638-paradeta-solidaria.html
CLASS:PUBLIC
END:VEVENT
END:VCALENDAR
