BEGIN:VCALENDAR
VERSION:2.0
CALSCALE:GREGORIAN
PRODID:-//Diputació de Barcelona//DibaCMS//EN
BEGIN:VEVENT
UID:15639
DTSTAMP:20260424T203331
DTSTART:20221216T110000
DTEND:20230105T204000
SUMMARY:Aquest Nadal puja al tren de la compra local
LOCATION:08755 Castellbisbal
METHOD:PUBLISH
X-WR-CALNAME:comunicacio@castellbisbal.cat
X-WR-TIMEZONE:Europe/Madrid
DESCRIPTION:Del 16 de desembre al 5 de gener, a la plaça de l'Església

URI:https://www.castellbisbal.cat/actualitat/agenda/aquest-nadal-puja-al-tren-de-la-compra-local.html
CLASS:PUBLIC
END:VEVENT
END:VCALENDAR
