BEGIN:VCALENDAR
VERSION:2.0
CALSCALE:GREGORIAN
PRODID:-//Diputació de Barcelona//DibaCMS//EN
BEGIN:VEVENT
UID:15640
DTSTAMP:20260424T005318
DTSTART:20221216T173000
DTEND:20221216T173000
SUMMARY:Presentació del conte: El correfoc de Castellbisbal
LOCATION:Av. de Pau Casals, 16 08755 Castellbisbal
METHOD:PUBLISH
X-WR-CALNAME:comunicacio@castellbisbal.cat
X-WR-TIMEZONE:Europe/Madrid
DESCRIPTION:A les 17.30 h, a l'Espai Montserrat Roig d'Els Costals

URI:https://www.castellbisbal.cat/actualitat/agenda/presentacio-del-conte-el-correfoc-de-castellbisbal.html
CLASS:PUBLIC
END:VEVENT
END:VCALENDAR
