BEGIN:VCALENDAR
VERSION:2.0
CALSCALE:GREGORIAN
PRODID:-//Diputació de Barcelona//DibaCMS//EN
BEGIN:VEVENT
UID:15661
DTSTAMP:20260424T054342
DTSTART:20221223T163000
DTEND:20221223T163000
SUMMARY:Fes-te de foc!
LOCATION:08755 Castellbisbal
METHOD:PUBLISH
X-WR-CALNAME:comunicacio@castellbisbal.cat
X-WR-TIMEZONE:Europe/Madrid
DESCRIPTION:A les 16:30 hores, a la plaça de l'Església

URI:https://www.castellbisbal.cat/actualitat/agenda/fes-te-de-foc.html
CLASS:PUBLIC
END:VEVENT
END:VCALENDAR
