BEGIN:VCALENDAR
VERSION:2.0
CALSCALE:GREGORIAN
PRODID:-//Diputació de Barcelona//DibaCMS//EN
BEGIN:VEVENT
UID:15701
DTSTAMP:20260424T210506
DTSTART:20230102T090000
DTEND:20230103T130000
SUMMARY:Ampliació del termini d'inscripcions al Campament Reial
LOCATION:
METHOD:PUBLISH
X-WR-CALNAME:comunicacio@castellbisbal.cat
X-WR-TIMEZONE:Europe/Madrid
DESCRIPTION:Dies 2 i 3 de gener, reserva telefònica

URI:https://www.castellbisbal.cat/actualitat/agenda/ampliacio-del-termini-dinscripcions-al-campament-reial.html
CLASS:PUBLIC
END:VEVENT
END:VCALENDAR
