BEGIN:VCALENDAR
VERSION:2.0
CALSCALE:GREGORIAN
PRODID:-//Diputació de Barcelona//DibaCMS//EN
BEGIN:VEVENT
UID:15702
DTSTAMP:20260424T133255
DTSTART:20230118T203000
DTEND:20230118T203000
SUMMARY:Nit del Comerç i Empresa
LOCATION:
METHOD:PUBLISH
X-WR-CALNAME:comunicacio@castellbisbal.cat
X-WR-TIMEZONE:Europe/Madrid
DESCRIPTION:A les 20.30 h, a l'Auditori d'Els Costals

URI:https://www.castellbisbal.cat/actualitat/agenda/nit-del-comerc-i-empresa.html
CLASS:PUBLIC
END:VEVENT
END:VCALENDAR
