BEGIN:VCALENDAR
VERSION:2.0
CALSCALE:GREGORIAN
PRODID:-//Diputació de Barcelona//DibaCMS//EN
BEGIN:VEVENT
UID:15703
DTSTAMP:20260425T044737
DTSTART:20230121T110000
DTEND:20230121T110000
SUMMARY:Contes menuts: "El viatge de la tortuga ballaruga"
LOCATION:Av. de Pau Casals, 16 08755 Castellbisbal
METHOD:PUBLISH
X-WR-CALNAME:comunicacio@castellbisbal.cat
X-WR-TIMEZONE:Europe/Madrid
DESCRIPTION:En dues sessions, a les 11.00 i a les 12.00 h, a la Biblioteca

URI:https://www.castellbisbal.cat/actualitat/agenda/biblioteca/contes-menuts-el-viatge-de-la-tortuga-ballaruga.html
CLASS:PUBLIC
END:VEVENT
END:VCALENDAR
