BEGIN:VCALENDAR
VERSION:2.0
CALSCALE:GREGORIAN
PRODID:-//Diputació de Barcelona//DibaCMS//EN
BEGIN:VEVENT
UID:15714
DTSTAMP:20260424T231347
DTSTART:20230119T000000
DTEND:20230123T000000
SUMMARY:Joc de la imatgeria festiva. Busca bèsties!
LOCATION:
METHOD:PUBLISH
X-WR-CALNAME:comunicacio@castellbisbal.cat
X-WR-TIMEZONE:Europe/Madrid
DESCRIPTION:Del 19 al 23 de gener, per tot el municipi

URI:https://www.castellbisbal.cat/actualitat/agenda/festa-major-de-sant-vicenc/joc-de-la-imatgeria-festiva-busca-besties.html
CLASS:PUBLIC
END:VEVENT
END:VCALENDAR
