BEGIN:VCALENDAR
VERSION:2.0
CALSCALE:GREGORIAN
PRODID:-//Diputació de Barcelona//DibaCMS//EN
BEGIN:VEVENT
UID:15717
DTSTAMP:20260425T011248
DTSTART:20230120T174500
DTEND:20230120T174500
SUMMARY:Concert de Festa Major
LOCATION:Av. de Pau Casals, 9 08755 Castellbisbal
METHOD:PUBLISH
X-WR-CALNAME:comunicacio@castellbisbal.cat
X-WR-TIMEZONE:Europe/Madrid
DESCRIPTION:A les 17.45 h, a la Sala d'actes de l'Ajuntament

URI:https://www.castellbisbal.cat/actualitat/agenda/festa-major-de-sant-vicenc/concert-de-festa-major.html
CLASS:PUBLIC
END:VEVENT
END:VCALENDAR
