BEGIN:VCALENDAR
VERSION:2.0
CALSCALE:GREGORIAN
PRODID:-//Diputació de Barcelona//DibaCMS//EN
BEGIN:VEVENT
UID:15718
DTSTAMP:20260424T233931
DTSTART:20230120T180000
DTEND:20230120T180000
SUMMARY:Campionat de Rummikub
LOCATION:Carrer Sant Joan, 2 08755 Castellbisbal
METHOD:PUBLISH
X-WR-CALNAME:comunicacio@castellbisbal.cat
X-WR-TIMEZONE:Europe/Madrid
DESCRIPTION:A les 18.00 h, al Carrer de Sant Joan, 2, 1r pis (seu de CADA)

URI:https://www.castellbisbal.cat/actualitat/agenda/festa-major-de-sant-vicenc/15718-campionat-de-rummikub.html
CLASS:PUBLIC
END:VEVENT
END:VCALENDAR
