BEGIN:VCALENDAR
VERSION:2.0
CALSCALE:GREGORIAN
PRODID:-//Diputació de Barcelona//DibaCMS//EN
BEGIN:VEVENT
UID:15719
DTSTAMP:20260423T213741
DTSTART:20230120T200000
DTEND:20230120T200000
SUMMARY:Concert de Conjunts i Jam-session
LOCATION:Av. Pau Casals, 7 08755 Castellbisbal
METHOD:PUBLISH
X-WR-CALNAME:comunicacio@castellbisbal.cat
X-WR-TIMEZONE:Europe/Madrid
DESCRIPTION:A les 20.00 h, al Bar d'El Casal

URI:https://www.castellbisbal.cat/actualitat/agenda/festa-major-de-sant-vicenc/concert-de-conjunts-i-jam-session.html
CLASS:PUBLIC
END:VEVENT
END:VCALENDAR
