BEGIN:VCALENDAR
VERSION:2.0
CALSCALE:GREGORIAN
PRODID:-//Diputació de Barcelona//DibaCMS//EN
BEGIN:VEVENT
UID:15720
DTSTAMP:20260424T040640
DTSTART:20230120T203000
DTEND:20230120T203000
SUMMARY:Inici tabalada
LOCATION:08755 Castellbisbal
METHOD:PUBLISH
X-WR-CALNAME:comunicacio@castellbisbal.cat
X-WR-TIMEZONE:Europe/Madrid
DESCRIPTION:A les 20.30 h, itinerant amb inici a la Plaça de l'Església

URI:https://www.castellbisbal.cat/actualitat/agenda/festa-major-de-sant-vicenc/inici-tabalada.html
CLASS:PUBLIC
END:VEVENT
END:VCALENDAR
