BEGIN:VCALENDAR
VERSION:2.0
CALSCALE:GREGORIAN
PRODID:-//Diputació de Barcelona//DibaCMS//EN
BEGIN:VEVENT
UID:15721
DTSTAMP:20260424T085140
DTSTART:20230120T213000
DTEND:20230120T213000
SUMMARY:Espectacle de foc
LOCATION:
METHOD:PUBLISH
X-WR-CALNAME:comunicacio@castellbisbal.cat
X-WR-TIMEZONE:Europe/Madrid
DESCRIPTION:A les 21.30 h, itinerant amb inici a la Plaça de Catalunya

URI:https://www.castellbisbal.cat/actualitat/agenda/festa-major-de-sant-vicenc/espectacle-de-foc.html
CLASS:PUBLIC
END:VEVENT
END:VCALENDAR
