BEGIN:VCALENDAR
VERSION:2.0
CALSCALE:GREGORIAN
PRODID:-//Diputació de Barcelona//DibaCMS//EN
BEGIN:VEVENT
UID:15723
DTSTAMP:20260425T040642
DTSTART:20230121T100000
DTEND:20230121T100000
SUMMARY:Torneig de tennis infantil del pernil
LOCATION:C. Agricultura, s/n 08755 Castellbisbal
METHOD:PUBLISH
X-WR-CALNAME:comunicacio@castellbisbal.cat
X-WR-TIMEZONE:Europe/Madrid
DESCRIPTION:A les 10.00 h, a les pistes de tennis de l'Illa Esportiva

URI:https://www.castellbisbal.cat/actualitat/agenda/festa-major-de-sant-vicenc/15723-torneig-de-tennis-infantil-del-pernil.html
CLASS:PUBLIC
END:VEVENT
END:VCALENDAR
