BEGIN:VCALENDAR
VERSION:2.0
CALSCALE:GREGORIAN
PRODID:-//Diputació de Barcelona//DibaCMS//EN
BEGIN:VEVENT
UID:15729
DTSTAMP:20260424T053942
DTSTART:20230121T180000
DTEND:20230121T180000
SUMMARY:Mostra de balls de gegants
LOCATION:08755 Castellbisbal
METHOD:PUBLISH
X-WR-CALNAME:comunicacio@castellbisbal.cat
X-WR-TIMEZONE:Europe/Madrid
DESCRIPTION:A les 18.00 h, a la Plaça de l'Església

URI:https://www.castellbisbal.cat/actualitat/agenda/festa-major-de-sant-vicenc/15729-mostra-de-balls-de-gegants.html
CLASS:PUBLIC
END:VEVENT
END:VCALENDAR
