BEGIN:VCALENDAR
VERSION:2.0
CALSCALE:GREGORIAN
PRODID:-//Diputació de Barcelona//DibaCMS//EN
BEGIN:VEVENT
UID:15730
DTSTAMP:20260423T231721
DTSTART:20230121T183000
DTEND:20230121T183000
SUMMARY:Continuació de la passada
LOCATION:08755 Castellbisbal
METHOD:PUBLISH
X-WR-CALNAME:comunicacio@castellbisbal.cat
X-WR-TIMEZONE:Europe/Madrid
DESCRIPTION:A les 18.30 h, a la Plaça de l'Església

URI:https://www.castellbisbal.cat/actualitat/agenda/festa-major-de-sant-vicenc/continuacio-de-la-passada.html
CLASS:PUBLIC
END:VEVENT
END:VCALENDAR
