BEGIN:VCALENDAR
VERSION:2.0
CALSCALE:GREGORIAN
PRODID:-//Diputació de Barcelona//DibaCMS//EN
BEGIN:VEVENT
UID:15731
DTSTAMP:20260425T030624
DTSTART:20230121T190000
DTEND:20230121T190000
SUMMARY:Tabalada i empaitafoc infantils i juvenils
LOCATION:Avinguda Gaudí 08755 Castellbisbal
METHOD:PUBLISH
X-WR-CALNAME:comunicacio@castellbisbal.cat
X-WR-TIMEZONE:Europe/Madrid
DESCRIPTION:A les 19.00 h, itinerant amb inici a la Bassa (av. Gaudí)

URI:https://www.castellbisbal.cat/actualitat/agenda/festa-major-de-sant-vicenc/tabalada-i-empaitafoc-infantils-i-juvenils.html
CLASS:PUBLIC
END:VEVENT
END:VCALENDAR
