BEGIN:VCALENDAR
VERSION:2.0
CALSCALE:GREGORIAN
PRODID:-//Diputació de Barcelona//DibaCMS//EN
BEGIN:VEVENT
UID:15734
DTSTAMP:20260424T121854
DTSTART:20230121T220000
DTEND:20230121T220000
SUMMARY:Nit de concerts amb Devil's Killer, Allau, Rocktambuls i DJ
LOCATION:Parc Folch i Torres 08755 Castellbisbal
METHOD:PUBLISH
X-WR-CALNAME:comunicacio@castellbisbal.cat
X-WR-TIMEZONE:Europe/Madrid
DESCRIPTION:A les 22.00 h, al Parc Folch i Torres

URI:https://www.castellbisbal.cat/actualitat/agenda/festa-major-de-sant-vicenc/nit-de-concerts-amb-devils-killer-allau-rocktambuls-i-dj.html
CLASS:PUBLIC
END:VEVENT
END:VCALENDAR
