BEGIN:VCALENDAR
VERSION:2.0
CALSCALE:GREGORIAN
PRODID:-//Diputació de Barcelona//DibaCMS//EN
BEGIN:VEVENT
UID:15741
DTSTAMP:20260425T035549
DTSTART:20230122T113000
DTEND:20230122T113000
SUMMARY:32a Trobada de Gegants de Castellbisbal
LOCATION:Avinguda Gaudí 08755 Castellbisbal
METHOD:PUBLISH
X-WR-CALNAME:comunicacio@castellbisbal.cat
X-WR-TIMEZONE:Europe/Madrid
DESCRIPTION:A les 11.30 h, a La Bassa (av. Gaudí)

URI:https://www.castellbisbal.cat/actualitat/agenda/festa-major-de-sant-vicenc/32a-trobada-de-gegants-de-castellbisbal.html
CLASS:PUBLIC
END:VEVENT
END:VCALENDAR
