BEGIN:VCALENDAR
VERSION:2.0
CALSCALE:GREGORIAN
PRODID:-//Diputació de Barcelona//DibaCMS//EN
BEGIN:VEVENT
UID:15742
DTSTAMP:20260424T221054
DTSTART:20230122T120000
DTEND:20230122T120000
SUMMARY:Cronoescalada a l'Ermita
LOCATION:Parc de l'Ermita 08755 Castellbisbal
METHOD:PUBLISH
X-WR-CALNAME:comunicacio@castellbisbal.cat
X-WR-TIMEZONE:Europe/Madrid
DESCRIPTION:A les 12.00 h, al Parc de l'Ermita

URI:https://www.castellbisbal.cat/actualitat/agenda/festa-major-de-sant-vicenc/15742-cronoescalada-a-lermita.html
CLASS:PUBLIC
END:VEVENT
END:VCALENDAR
