BEGIN:VCALENDAR
VERSION:2.0
CALSCALE:GREGORIAN
PRODID:-//Diputació de Barcelona//DibaCMS//EN
BEGIN:VEVENT
UID:15744
DTSTAMP:20260424T220410
DTSTART:20230122T161500
DTEND:20230122T161500
SUMMARY:Torneig d'escacs per a grans i petits
LOCATION:C/. Sant Joan,  2 08755 Castellbisbal
METHOD:PUBLISH
X-WR-CALNAME:comunicacio@castellbisbal.cat
X-WR-TIMEZONE:Europe/Madrid
DESCRIPTION:A les 16.15 h, a l'Espai de la Gent Gran

URI:https://www.castellbisbal.cat/actualitat/agenda/15744-torneig-descacs-per-a-grans-i-petits.html
CLASS:PUBLIC
END:VEVENT
END:VCALENDAR
