BEGIN:VCALENDAR
VERSION:2.0
CALSCALE:GREGORIAN
PRODID:-//Diputació de Barcelona//DibaCMS//EN
BEGIN:VEVENT
UID:15746
DTSTAMP:20260423T231340
DTSTART:20230122T190000
DTEND:20230122T190000
SUMMARY:Espectacle: "The Opera Locos"
LOCATION:Av. de Pau Casals, 16 08755 Castellbisbal
METHOD:PUBLISH
X-WR-CALNAME:comunicacio@castellbisbal.cat
X-WR-TIMEZONE:Europe/Madrid
DESCRIPTION:A les 19.00 h, a l'Auditori d'Els Costals

URI:https://www.castellbisbal.cat/actualitat/agenda/festa-major-de-sant-vicenc/espectacle-the-opera-locos.html
CLASS:PUBLIC
END:VEVENT
END:VCALENDAR
