BEGIN:VCALENDAR
VERSION:2.0
CALSCALE:GREGORIAN
PRODID:-//Diputació de Barcelona//DibaCMS//EN
BEGIN:VEVENT
UID:15747
DTSTAMP:20260424T153630
DTSTART:20230123T110000
DTEND:20230123T110000
SUMMARY:Xocolatada
LOCATION:Av. de Pau Casals, 16 08755 Castellbisbal
METHOD:PUBLISH
X-WR-CALNAME:comunicacio@castellbisbal.cat
X-WR-TIMEZONE:Europe/Madrid
DESCRIPTION:A les 11.00 h, al Centre Cultural d'Els Costals

URI:https://www.castellbisbal.cat/actualitat/agenda/festa-major-de-sant-vicenc/15747-xocolatada.html
CLASS:PUBLIC
END:VEVENT
END:VCALENDAR
