BEGIN:VCALENDAR
VERSION:2.0
CALSCALE:GREGORIAN
PRODID:-//Diputació de Barcelona//DibaCMS//EN
BEGIN:VEVENT
UID:15750
DTSTAMP:20260424T120157
DTSTART:20230123T110000
DTEND:20230123T110000
SUMMARY:Arrela't! Tallers familiars
LOCATION:Av. de Pau Casals, 16 08755 Castellbisbal
METHOD:PUBLISH
X-WR-CALNAME:comunicacio@castellbisbal.cat
X-WR-TIMEZONE:Europe/Madrid
DESCRIPTION:Des de les 11.00 fins a les 14.00 h, a la Plaça de Joana Raspall d'Els Costals

URI:https://www.castellbisbal.cat/actualitat/agenda/festa-major-de-sant-vicenc/arrelat-tallers-familiars.html
CLASS:PUBLIC
END:VEVENT
END:VCALENDAR
