BEGIN:VCALENDAR
VERSION:2.0
CALSCALE:GREGORIAN
PRODID:-//Diputació de Barcelona//DibaCMS//EN
BEGIN:VEVENT
UID:15752
DTSTAMP:20260424T023657
DTSTART:20230120T000000
DTEND:20230312T000000
SUMMARY:Exposició "Caput aut navis. A cara o creu"
LOCATION:Av. de Pau Casals, 16 08755 Castellbisbal
METHOD:PUBLISH
X-WR-CALNAME:comunicacio@castellbisbal.cat
X-WR-TIMEZONE:Europe/Madrid
DESCRIPTION:Del 20 de gener al 12 de març, a la sala d'exposicions d'Els Costals

URI:https://www.castellbisbal.cat/actualitat/agenda/festa-major-de-sant-vicenc/exposicio-caput-aut-navis-a-cara-o-creu.html
CLASS:PUBLIC
END:VEVENT
END:VCALENDAR
