BEGIN:VCALENDAR
VERSION:2.0
CALSCALE:GREGORIAN
PRODID:-//Diputació de Barcelona//DibaCMS//EN
BEGIN:VEVENT
UID:15754
DTSTAMP:20260424T133347
DTSTART:20230113T180000
DTEND:20230113T180000
SUMMARY:Torneig de futbolí
LOCATION:Carrer Francesc Macià, 64 08755 Castellbisbal
METHOD:PUBLISH
X-WR-CALNAME:comunicacio@castellbisbal.cat
X-WR-TIMEZONE:Europe/Madrid
DESCRIPTION:De 18.00 a 19.30 h, al PIJ

URI:https://www.castellbisbal.cat/actualitat/agenda/torneig-de-futboli.html
CLASS:PUBLIC
END:VEVENT
END:VCALENDAR
