BEGIN:VCALENDAR
VERSION:2.0
CALSCALE:GREGORIAN
PRODID:-//Diputació de Barcelona//DibaCMS//EN
BEGIN:VEVENT
UID:15757
DTSTAMP:20260424T135801
DTSTART:20230126T180000
DTEND:20230126T180000
SUMMARY:Cinefòrum jove i Kahoot
LOCATION:Carrer Francesc Macià, 64 08755 Castellbisbal
METHOD:PUBLISH
X-WR-CALNAME:comunicacio@castellbisbal.cat
X-WR-TIMEZONE:Europe/Madrid
DESCRIPTION:De 18.00 a 20.00 h, al PIJ

URI:https://www.castellbisbal.cat/actualitat/agenda/cineforum-jove-i-kahoot.html
CLASS:PUBLIC
END:VEVENT
END:VCALENDAR
