BEGIN:VCALENDAR
VERSION:2.0
CALSCALE:GREGORIAN
PRODID:-//Diputació de Barcelona//DibaCMS//EN
BEGIN:VEVENT
UID:15765
DTSTAMP:20260423T213527
DTSTART:20230126T170000
DTEND:20230126T170000
SUMMARY:L'hora del cafè: "Com és el son dels infants als 0-3 anys"
LOCATION:C. Bellavista 47-49 08755 Castellbisbal
METHOD:PUBLISH
X-WR-CALNAME:comunicacio@castellbisbal.cat
X-WR-TIMEZONE:Europe/Madrid
DESCRIPTION:De 17.00 a 18.00 hores, a l'EMB La Caseta

URI:https://www.castellbisbal.cat/actualitat/agenda/lhora-del-cafe-com-es-el-son-dels-infants-als-0-3-anys.html
CLASS:PUBLIC
END:VEVENT
END:VCALENDAR
