BEGIN:VCALENDAR
VERSION:2.0
CALSCALE:GREGORIAN
PRODID:-//Diputació de Barcelona//DibaCMS//EN
BEGIN:VEVENT
UID:15770
DTSTAMP:20260424T021842
DTSTART:20230126T180000
DTEND:20230126T180000
SUMMARY:Jornada de portes obertes: "Qui som, què fem"
LOCATION:Av. Pau Casals, 12 08755 Castellbisbal
METHOD:PUBLISH
X-WR-CALNAME:comunicacio@castellbisbal.cat
X-WR-TIMEZONE:Europe/Madrid
DESCRIPTION:De 18.00 a 19.30 hores, al CAP Doctor Joan Planas

URI:https://www.castellbisbal.cat/actualitat/agenda/jornada-de-portes-obertes-qui-som-que-fem.html
CLASS:PUBLIC
END:VEVENT
END:VCALENDAR
