BEGIN:VCALENDAR
VERSION:2.0
CALSCALE:GREGORIAN
PRODID:-//Diputació de Barcelona//DibaCMS//EN
BEGIN:VEVENT
UID:15771
DTSTAMP:20260424T040117
DTSTART:20230223T180000
DTEND:20230223T180000
SUMMARY:Xerrada "El boom de la longevitat: com mantenir-se jove i en forma"
LOCATION:Av. Pau Casals, 12 08755 Castellbisbal
METHOD:PUBLISH
X-WR-CALNAME:comunicacio@castellbisbal.cat
X-WR-TIMEZONE:Europe/Madrid
DESCRIPTION:De 18.00 a 19.30 h, al CAP Doctor Joan Planas

URI:https://www.castellbisbal.cat/actualitat/agenda/xerrada-el-boom-de-la-longevitat-com-mantenir-se-jove-i-en-forma.html
CLASS:PUBLIC
END:VEVENT
END:VCALENDAR
