BEGIN:VCALENDAR
VERSION:2.0
CALSCALE:GREGORIAN
PRODID:-//Diputació de Barcelona//DibaCMS//EN
BEGIN:VEVENT
UID:15777
DTSTAMP:20260424T082417
DTSTART:20230209T190000
DTEND:20230209T190000
SUMMARY:La pèrdua de la biodiversitat i com ens afecta
LOCATION:Av. de Pau Casals, 16 08755 Castellbisbal
METHOD:PUBLISH
X-WR-CALNAME:comunicacio@castellbisbal.cat
X-WR-TIMEZONE:Europe/Madrid
DESCRIPTION:A les 19.00 h, a l'Espai Montserrat Roig d'Els Costals

URI:https://www.castellbisbal.cat/actualitat/agenda/la-perdua-de-la-biodiversitat-i-com-ens-afecta.html
CLASS:PUBLIC
END:VEVENT
END:VCALENDAR
