BEGIN:VCALENDAR
VERSION:2.0
CALSCALE:GREGORIAN
PRODID:-//Diputació de Barcelona//DibaCMS//EN
BEGIN:VEVENT
UID:15778
DTSTAMP:20260425T001520
DTSTART:20230223T190000
DTEND:20230223T190000
SUMMARY:Conferència: "Volcans i el gel de l'infern"
LOCATION:Av. de Pau Casals, 16 08755 Castellbisbal
METHOD:PUBLISH
X-WR-CALNAME:comunicacio@castellbisbal.cat
X-WR-TIMEZONE:Europe/Madrid
DESCRIPTION:A les 19.00 h, a l'espai Montserrat Roig d'Els Costals

URI:https://www.castellbisbal.cat/actualitat/agenda/conferencia-volcans-i-el-gel-de-linfern.html
CLASS:PUBLIC
END:VEVENT
END:VCALENDAR
