BEGIN:VCALENDAR
VERSION:2.0
CALSCALE:GREGORIAN
PRODID:-//Diputació de Barcelona//DibaCMS//EN
BEGIN:VEVENT
UID:15781
DTSTAMP:20260424T165726
DTSTART:20230211T100000
DTEND:20230211T100000
SUMMARY:Serveis d'assesorament: "Reparació d'aparells i bricolatge"
LOCATION:Pl. Lluís Companys, 2 08755 Castellbisbal
METHOD:PUBLISH
X-WR-CALNAME:comunicacio@castellbisbal.cat
X-WR-TIMEZONE:Europe/Madrid
DESCRIPTION:De 10.00 a 13.00 h, al Punt Verd

URI:https://www.castellbisbal.cat/actualitat/agenda/serveis-dassesorament-reparacio-daparells-i-bricolatge.html
CLASS:PUBLIC
END:VEVENT
END:VCALENDAR
