BEGIN:VCALENDAR
VERSION:2.0
CALSCALE:GREGORIAN
PRODID:-//Diputació de Barcelona//DibaCMS//EN
BEGIN:VEVENT
UID:15783
DTSTAMP:20260425T024925
DTSTART:20230311T100000
DTEND:20230311T100000
SUMMARY:Serveis d'assessorament: "Fusteria, tapisseria i restauració de mobles"
LOCATION:Pl. Lluís Companys, 2 08755 Castellbisbal
METHOD:PUBLISH
X-WR-CALNAME:comunicacio@castellbisbal.cat
X-WR-TIMEZONE:Europe/Madrid
DESCRIPTION:De 10.00 a 13.00 h, al Punt Verd

URI:https://www.castellbisbal.cat/actualitat/agenda/serveis-dassessorament-fusteria-tapisseria-i-restauracio-de-mobles.html
CLASS:PUBLIC
END:VEVENT
END:VCALENDAR
