BEGIN:VCALENDAR
VERSION:2.0
CALSCALE:GREGORIAN
PRODID:-//Diputació de Barcelona//DibaCMS//EN
BEGIN:VEVENT
UID:15787
DTSTAMP:20260424T052825
DTSTART:20230217T170000
DTEND:20230217T170000
SUMMARY:Taller: "Restauració de mobles i objectes de fusta"
LOCATION:Pl. Lluís Companys, 2 08755 Castellbisbal
METHOD:PUBLISH
X-WR-CALNAME:comunicacio@castellbisbal.cat
X-WR-TIMEZONE:Europe/Madrid
DESCRIPTION:De 17.00 a 19.30 h, lloc a determinar

URI:https://www.castellbisbal.cat/actualitat/agenda/taller-restauracio-de-mobles-i-objectes-de-fusta.html
CLASS:PUBLIC
END:VEVENT
END:VCALENDAR
