BEGIN:VCALENDAR
VERSION:2.0
CALSCALE:GREGORIAN
PRODID:-//Diputació de Barcelona//DibaCMS//EN
BEGIN:VEVENT
UID:15790
DTSTAMP:20260424T194845
DTSTART:20230519T170000
DTEND:20230519T170000
SUMMARY:Taller: "Fem postres i plats amb fruita"
LOCATION:Avinguda de Pau Casals, 9 08755 Castellbisbal
METHOD:PUBLISH
X-WR-CALNAME:comunicacio@castellbisbal.cat
X-WR-TIMEZONE:Europe/Madrid
DESCRIPTION:De 17.00 a 19.30 h, a la sala de plens de l'Ajuntament

URI:https://www.castellbisbal.cat/actualitat/agenda/taller-fem-postres-i-plats-amb-fruita.html
CLASS:PUBLIC
END:VEVENT
END:VCALENDAR
