BEGIN:VCALENDAR
VERSION:2.0
CALSCALE:GREGORIAN
PRODID:-//Diputació de Barcelona//DibaCMS//EN
BEGIN:VEVENT
UID:15802
DTSTAMP:20260424T161228
DTSTART:20231117T170000
DTEND:20231117T170000
SUMMARY:Taller: "Decorem amb drapet i llanes"
LOCATION:Pl. Lluís Companys, 2 08755 Castellbisbal
METHOD:PUBLISH
X-WR-CALNAME:comunicacio@castellbisbal.cat
X-WR-TIMEZONE:Europe/Madrid
DESCRIPTION:A les 17.00 hores, al Punt Verd

URI:https://www.castellbisbal.cat/actualitat/agenda/taller-decorem-amb-drapet-i-llanes.html
CLASS:PUBLIC
END:VEVENT
END:VCALENDAR
