BEGIN:VCALENDAR
VERSION:2.0
CALSCALE:GREGORIAN
PRODID:-//Diputació de Barcelona//DibaCMS//EN
BEGIN:VEVENT
UID:15804
DTSTAMP:20260424T130559
DTSTART:20230916T100000
DTEND:20230916T100000
SUMMARY:Serveis d'assessorament: "Manteniment i reparació de bicicletes"
LOCATION:Pl. Lluís Companys, 2 08755 Castellbisbal
METHOD:PUBLISH
X-WR-CALNAME:comunicacio@castellbisbal.cat
X-WR-TIMEZONE:Europe/Madrid
DESCRIPTION:De 10.00 a 13.00 h, al Punt Verd

URI:https://www.castellbisbal.cat/actualitat/agenda/serveis-dassessorament-manteniment-i-reparacio-de-bicicletes.html
CLASS:PUBLIC
END:VEVENT
END:VCALENDAR
